BEGIN:VCALENDAR
VERSION:2.0
PRODID:SchoolNow
CALSCALE:GREGORIAN
BEGIN:VEVENT
UID:244e6ca2-8287-11f0-9cec-0affee066179
DTSTAMP:20251229T190404Z
SUMMARY:CDD Board Meeting - Jan. 2026
LOCATION:Bloomingdale Regional Library located at 1906 Bloomingdale Ave\, V
 alrico\, FL 33596
URL;VALUE=URI:https://www.lacollinacdd.com/calendar/8545556/cdd-board-meeti
 ng-jan-2026
DTSTART:20260105T230000Z
DTEND:20260106T000000Z
ATTACH;FILENAME=2026-01-05 La Collina CDD Final Agenda Package.pdf;FMTTYPE=
 application/pdf:https://campussuite-storage.s3.amazonaws.com/prod/1559189/
 e8cf3980-57c8-11ee-b0d4-0a58a9feac02/3055818/2020181e-e4e9-11f0-b32d-0a58a
 9feac02/file/2026-01-05 La Collina CDD Final Agenda Package.pdf
END:VEVENT
END:VCALENDAR
